BEGIN:VCALENDAR
VERSION:2.0
PRODID:-//Floral Park - ECPv6.15.20//NONSGML v1.0//EN
CALSCALE:GREGORIAN
METHOD:PUBLISH
X-ORIGINAL-URL:https://floralpark.com
X-WR-CALDESC:Events for Floral Park
REFRESH-INTERVAL;VALUE=DURATION:PT1H
X-Robots-Tag:noindex
X-PUBLISHED-TTL:PT1H
BEGIN:VTIMEZONE
TZID:America/Los_Angeles
BEGIN:DAYLIGHT
TZOFFSETFROM:-0800
TZOFFSETTO:-0700
TZNAME:PDT
DTSTART:20250309T100000
END:DAYLIGHT
BEGIN:STANDARD
TZOFFSETFROM:-0700
TZOFFSETTO:-0800
TZNAME:PST
DTSTART:20251102T090000
END:STANDARD
BEGIN:DAYLIGHT
TZOFFSETFROM:-0800
TZOFFSETTO:-0700
TZNAME:PDT
DTSTART:20260308T100000
END:DAYLIGHT
BEGIN:STANDARD
TZOFFSETFROM:-0700
TZOFFSETTO:-0800
TZNAME:PST
DTSTART:20261101T090000
END:STANDARD
BEGIN:DAYLIGHT
TZOFFSETFROM:-0800
TZOFFSETTO:-0700
TZNAME:PDT
DTSTART:20270314T100000
END:DAYLIGHT
BEGIN:STANDARD
TZOFFSETFROM:-0700
TZOFFSETTO:-0800
TZNAME:PST
DTSTART:20271107T090000
END:STANDARD
END:VTIMEZONE
BEGIN:VEVENT
DTSTART;TZID=America/Los_Angeles:20260910T183000
DTEND;TZID=America/Los_Angeles:20260910T200000
DTSTAMP:20260422T021500
CREATED:20260205T221436Z
LAST-MODIFIED:20260205T221436Z
UID:10000059-1789065000-1789070400@floralpark.com
SUMMARY:General Membership Meeting
DESCRIPTION:We invite you to attend our General Membership meetings! Your attendance is important to us!  We as a community have a lot of inspiring things in the works\, and we would like to share these things with you. Please consider attending\, I think you’ll be glad you did. \nWe will have a social time from 6:30 PM to 7 PM. Meeting starts at 7:00 pm. \nWe hope to see you there !! \nSee MEETING AGENDA HERE >
URL:https://floralpark.com/event/general-membership-meeting/2026-09-10/
LOCATION:Assistance League of Santa Ana\, 1028 West Second Street\, Santa Ana\, CA\, 92703\, United States
END:VEVENT
BEGIN:VEVENT
DTSTART;TZID=America/Los_Angeles:20261112T183000
DTEND;TZID=America/Los_Angeles:20261112T200000
DTSTAMP:20260422T021500
CREATED:20260205T221436Z
LAST-MODIFIED:20260205T221436Z
UID:10000060-1794508200-1794513600@floralpark.com
SUMMARY:General Membership Meeting
DESCRIPTION:We invite you to attend our General Membership meetings! Your attendance is important to us!  We as a community have a lot of inspiring things in the works\, and we would like to share these things with you. Please consider attending\, I think you’ll be glad you did. \nWe will have a social time from 6:30 PM to 7 PM. Meeting starts at 7:00 pm. \nWe hope to see you there !! \nSee MEETING AGENDA HERE >
URL:https://floralpark.com/event/general-membership-meeting/2026-11-12/
LOCATION:Assistance League of Santa Ana\, 1028 West Second Street\, Santa Ana\, CA\, 92703\, United States
END:VEVENT
END:VCALENDAR