BEGIN:VCALENDAR
VERSION:2.0
PRODID:-//Floral Park - ECPv6.15.20//NONSGML v1.0//EN
CALSCALE:GREGORIAN
METHOD:PUBLISH
X-WR-CALNAME:Floral Park
X-ORIGINAL-URL:https://floralpark.com
X-WR-CALDESC:Events for Floral Park
REFRESH-INTERVAL;VALUE=DURATION:PT1H
X-Robots-Tag:noindex
X-PUBLISHED-TTL:PT1H
BEGIN:VTIMEZONE
TZID:America/Los_Angeles
BEGIN:DAYLIGHT
TZOFFSETFROM:-0800
TZOFFSETTO:-0700
TZNAME:PDT
DTSTART:20250309T100000
END:DAYLIGHT
BEGIN:STANDARD
TZOFFSETFROM:-0700
TZOFFSETTO:-0800
TZNAME:PST
DTSTART:20251102T090000
END:STANDARD
BEGIN:DAYLIGHT
TZOFFSETFROM:-0800
TZOFFSETTO:-0700
TZNAME:PDT
DTSTART:20260308T100000
END:DAYLIGHT
BEGIN:STANDARD
TZOFFSETFROM:-0700
TZOFFSETTO:-0800
TZNAME:PST
DTSTART:20261101T090000
END:STANDARD
BEGIN:DAYLIGHT
TZOFFSETFROM:-0800
TZOFFSETTO:-0700
TZNAME:PDT
DTSTART:20270314T100000
END:DAYLIGHT
BEGIN:STANDARD
TZOFFSETFROM:-0700
TZOFFSETTO:-0800
TZNAME:PST
DTSTART:20271107T090000
END:STANDARD
END:VTIMEZONE
BEGIN:VEVENT
DTSTART;TZID=America/Los_Angeles:20260714T190000
DTEND;TZID=America/Los_Angeles:20260714T203000
DTSTAMP:20260422T123054
CREATED:20260205T220208Z
LAST-MODIFIED:20260205T220208Z
UID:10000046-1784055600-1784061000@floralpark.com
SUMMARY:Board Meeting
DESCRIPTION:The FPNA Board meets every second Tuesday of the month\, 7:00 pm to 8:30pm and meetings are open to all FPNA residents. All Residents are encouraged to attend\, share ideas\, and participate in discussions that shape the future of our neighborhood. A Residents opening statement is limited to 3 minutes\, followed by discussion.\nIf you plan on attending\, please notify President@FloralPark.com \nBoard Meeting will be held at 2341 Bonnie Brae.
URL:https://floralpark.com/event/board-meeting-13/
LOCATION:2341 Bonnie Brae\, Santa Ana
ORGANIZER;CN="Floral Park Neighborhood Association":MAILTO:info@floralpark.com
END:VEVENT
END:VCALENDAR