BEGIN:VCALENDAR
VERSION:2.0
PRODID:-//Floral Park - ECPv6.15.20//NONSGML v1.0//EN
CALSCALE:GREGORIAN
METHOD:PUBLISH
X-ORIGINAL-URL:https://floralpark.com
X-WR-CALDESC:Events for Floral Park
REFRESH-INTERVAL;VALUE=DURATION:PT1H
X-Robots-Tag:noindex
X-PUBLISHED-TTL:PT1H
BEGIN:VTIMEZONE
TZID:America/Los_Angeles
BEGIN:DAYLIGHT
TZOFFSETFROM:-0800
TZOFFSETTO:-0700
TZNAME:PDT
DTSTART:20250309T100000
END:DAYLIGHT
BEGIN:STANDARD
TZOFFSETFROM:-0700
TZOFFSETTO:-0800
TZNAME:PST
DTSTART:20251102T090000
END:STANDARD
BEGIN:DAYLIGHT
TZOFFSETFROM:-0800
TZOFFSETTO:-0700
TZNAME:PDT
DTSTART:20260308T100000
END:DAYLIGHT
BEGIN:STANDARD
TZOFFSETFROM:-0700
TZOFFSETTO:-0800
TZNAME:PST
DTSTART:20261101T090000
END:STANDARD
BEGIN:DAYLIGHT
TZOFFSETFROM:-0800
TZOFFSETTO:-0700
TZNAME:PDT
DTSTART:20270314T100000
END:DAYLIGHT
BEGIN:STANDARD
TZOFFSETFROM:-0700
TZOFFSETTO:-0800
TZNAME:PST
DTSTART:20271107T090000
END:STANDARD
END:VTIMEZONE
BEGIN:VEVENT
DTSTART;TZID=America/Los_Angeles:20260416T183000
DTEND;TZID=America/Los_Angeles:20260416T200000
DTSTAMP:20260420T090227
CREATED:20260320T214822Z
LAST-MODIFIED:20260320T214822Z
UID:10000069-1776364200-1776369600@floralpark.com
SUMMARY:Sponsorship Committee Meeting
DESCRIPTION:Come join the team and learn about the many ways Floral Park gives back to the community! \nThursday April 16th at 6:30pm at 1809 N Heliotrope Dr. We will be reviewing and allocating funds for the 2026 student scholarships applications\, grant and charitable nominations. This is the heartbeat of Floral Park Neighborhood Association’s community involvement\, and we would love your voice and involvement at any level! \nPlease contact giving@floralpark.com if you have any questions. 
URL:https://floralpark.com/event/sponsorship-committee-meeting/
LOCATION:1809 N Heliotrope Dr\, 1809 N. Heliotrope Dr.\, Santa Ana\, CA\, 92706\, United States
ORGANIZER;CN="Floral Park Neighborhood Association":MAILTO:info@floralpark.com
END:VEVENT
END:VCALENDAR