BEGIN:VCALENDAR
VERSION:2.0
PRODID:-//Floral Park - ECPv6.15.20//NONSGML v1.0//EN
CALSCALE:GREGORIAN
METHOD:PUBLISH
X-ORIGINAL-URL:https://floralpark.com
X-WR-CALDESC:Events for Floral Park
REFRESH-INTERVAL;VALUE=DURATION:PT1H
X-Robots-Tag:noindex
X-PUBLISHED-TTL:PT1H
BEGIN:VTIMEZONE
TZID:America/Los_Angeles
BEGIN:DAYLIGHT
TZOFFSETFROM:-0800
TZOFFSETTO:-0700
TZNAME:PDT
DTSTART:20250309T100000
END:DAYLIGHT
BEGIN:STANDARD
TZOFFSETFROM:-0700
TZOFFSETTO:-0800
TZNAME:PST
DTSTART:20251102T090000
END:STANDARD
BEGIN:DAYLIGHT
TZOFFSETFROM:-0800
TZOFFSETTO:-0700
TZNAME:PDT
DTSTART:20260308T100000
END:DAYLIGHT
BEGIN:STANDARD
TZOFFSETFROM:-0700
TZOFFSETTO:-0800
TZNAME:PST
DTSTART:20261101T090000
END:STANDARD
BEGIN:DAYLIGHT
TZOFFSETFROM:-0800
TZOFFSETTO:-0700
TZNAME:PDT
DTSTART:20270314T100000
END:DAYLIGHT
BEGIN:STANDARD
TZOFFSETFROM:-0700
TZOFFSETTO:-0800
TZNAME:PST
DTSTART:20271107T090000
END:STANDARD
END:VTIMEZONE
BEGIN:VEVENT
DTSTART;TZID=America/Los_Angeles:20260512T190000
DTEND;TZID=America/Los_Angeles:20260512T203000
DTSTAMP:20260420T020213
CREATED:20260205T220000Z
LAST-MODIFIED:20260205T220000Z
UID:10000044-1778612400-1778617800@floralpark.com
SUMMARY:Board Meeting
DESCRIPTION:The FPNA Board meets every second Tuesday of the month\, 7:00 pm to 8:30pm and meetings are open to all FPNA residents. All Residents are encouraged to attend\, share ideas\, and participate in discussions that shape the future of our neighborhood. A Residents opening statement is limited to 3 minutes\, followed by discussion.\nIf you plan on attending\, please notify President@FloralPark.com \nBoard Meeting will be held at 2001 N. Heliotrope Dr.
URL:https://floralpark.com/event/board-meeting-11/
LOCATION:2001 N Heliotrope Dr\, Santa Ana\, CA
ORGANIZER;CN="Floral Park Neighborhood Association":MAILTO:info@floralpark.com
END:VEVENT
BEGIN:VEVENT
DTSTART;TZID=America/Los_Angeles:20260609T190000
DTEND;TZID=America/Los_Angeles:20260609T203000
DTSTAMP:20260420T020213
CREATED:20260205T220044Z
LAST-MODIFIED:20260205T220044Z
UID:10000045-1781031600-1781037000@floralpark.com
SUMMARY:Board Meeting
DESCRIPTION:The FPNA Board meets every second Tuesday of the month\, 7:00 pm to 8:30pm and meetings are open to all FPNA residents. All Residents are encouraged to attend\, share ideas\, and participate in discussions that shape the future of our neighborhood. A Residents opening statement is limited to 3 minutes\, followed by discussion.\nIf you plan on attending\, please notify President@FloralPark.com \nBoard Meeting will be held at 2112 N. Ross St.
URL:https://floralpark.com/event/board-meeting-12/
LOCATION:2112 N. Ross Street\, Santa Ana
ORGANIZER;CN="Floral Park Neighborhood Association":MAILTO:info@floralpark.com
END:VEVENT
BEGIN:VEVENT
DTSTART;TZID=America/Los_Angeles:20260714T190000
DTEND;TZID=America/Los_Angeles:20260714T203000
DTSTAMP:20260420T020213
CREATED:20260205T220208Z
LAST-MODIFIED:20260205T220208Z
UID:10000046-1784055600-1784061000@floralpark.com
SUMMARY:Board Meeting
DESCRIPTION:The FPNA Board meets every second Tuesday of the month\, 7:00 pm to 8:30pm and meetings are open to all FPNA residents. All Residents are encouraged to attend\, share ideas\, and participate in discussions that shape the future of our neighborhood. A Residents opening statement is limited to 3 minutes\, followed by discussion.\nIf you plan on attending\, please notify President@FloralPark.com \nBoard Meeting will be held at 2341 Bonnie Brae.
URL:https://floralpark.com/event/board-meeting-13/
LOCATION:2341 Bonnie Brae\, Santa Ana
ORGANIZER;CN="Floral Park Neighborhood Association":MAILTO:info@floralpark.com
END:VEVENT
BEGIN:VEVENT
DTSTART;TZID=America/Los_Angeles:20260811T190000
DTEND;TZID=America/Los_Angeles:20260811T203000
DTSTAMP:20260420T020213
CREATED:20260205T220320Z
LAST-MODIFIED:20260205T220320Z
UID:10000047-1786474800-1786480200@floralpark.com
SUMMARY:Board Meeting
DESCRIPTION:The FPNA Board meets every second Tuesday of the month\, 7:00 pm to 8:30pm and meetings are open to all FPNA residents. All Residents are encouraged to attend\, share ideas\, and participate in discussions that shape the future of our neighborhood. A Residents opening statement is limited to 3 minutes\, followed by discussion.\nIf you plan on attending\, please notify President@FloralPark.com \nBoard Meeting will be held at 2462 N. Riverside Dr.
URL:https://floralpark.com/event/board-meeting-14/
LOCATION:2462 N. Riverside Drive\, Santa Ana
ORGANIZER;CN="Floral Park Neighborhood Association":MAILTO:info@floralpark.com
END:VEVENT
BEGIN:VEVENT
DTSTART;TZID=America/Los_Angeles:20260908T190000
DTEND;TZID=America/Los_Angeles:20260908T203000
DTSTAMP:20260420T020213
CREATED:20260205T220413Z
LAST-MODIFIED:20260205T220413Z
UID:10000048-1788894000-1788899400@floralpark.com
SUMMARY:Board Meeting
DESCRIPTION:The FPNA Board meets every second Tuesday of the month\, 7:00 pm to 8:30pm and meetings are open to all FPNA residents. All Residents are encouraged to attend\, share ideas\, and participate in discussions that shape the future of our neighborhood. A Residents opening statement is limited to 3 minutes\, followed by discussion.\nIf you plan on attending\, please notify President@FloralPark.com \nBoard Meeting will be held at 2220 N. Heliotrope Dr.
URL:https://floralpark.com/event/board-meeting-15/
LOCATION:2220 N. Heliotrope Drive\, Santa Ana
ORGANIZER;CN="Floral Park Neighborhood Association":MAILTO:info@floralpark.com
END:VEVENT
BEGIN:VEVENT
DTSTART;TZID=America/Los_Angeles:20261013T190000
DTEND;TZID=America/Los_Angeles:20261013T203000
DTSTAMP:20260420T020213
CREATED:20260205T220505Z
LAST-MODIFIED:20260205T220505Z
UID:10000049-1791918000-1791923400@floralpark.com
SUMMARY:Board Meeting
DESCRIPTION:The FPNA Board meets every second Tuesday of the month\, 7:00 pm to 8:30pm and meetings are open to all FPNA residents. All Residents are encouraged to attend\, share ideas\, and participate in discussions that shape the future of our neighborhood. A Residents opening statement is limited to 3 minutes\, followed by discussion.\nIf you plan on attending\, please notify President@FloralPark.com \nBoard Meeting will be held at TBD.
URL:https://floralpark.com/event/board-meeting-16/
LOCATION:TBD
ORGANIZER;CN="Floral Park Neighborhood Association":MAILTO:info@floralpark.com
END:VEVENT
BEGIN:VEVENT
DTSTART;TZID=America/Los_Angeles:20261110T190000
DTEND;TZID=America/Los_Angeles:20261110T203000
DTSTAMP:20260420T020213
CREATED:20260205T220620Z
LAST-MODIFIED:20260205T220620Z
UID:10000050-1794337200-1794342600@floralpark.com
SUMMARY:Board Meeting
DESCRIPTION:The FPNA Board meets every second Tuesday of the month\, 7:00 pm to 8:30pm and meetings are open to all FPNA residents. All Residents are encouraged to attend\, share ideas\, and participate in discussions that shape the future of our neighborhood. A Residents opening statement is limited to 3 minutes\, followed by discussion.\nIf you plan on attending\, please notify President@FloralPark.com \nBoard Meeting will be held at TBD.
URL:https://floralpark.com/event/board-meeting-17/
LOCATION:TBD
ORGANIZER;CN="Floral Park Neighborhood Association":MAILTO:info@floralpark.com
END:VEVENT
END:VCALENDAR